BEGIN:VCALENDAR
VERSION:2.0
PRODID:-//Poe Group Advisors - ECPv6.15.20//NONSGML v1.0//EN
CALSCALE:GREGORIAN
METHOD:PUBLISH
X-ORIGINAL-URL:https://staging.poegroupadvisors.com
X-WR-CALDESC:Events for Poe Group Advisors
REFRESH-INTERVAL;VALUE=DURATION:PT1H
X-Robots-Tag:noindex
X-PUBLISHED-TTL:PT1H
BEGIN:VTIMEZONE
TZID:America/New_York
BEGIN:DAYLIGHT
TZOFFSETFROM:-0500
TZOFFSETTO:-0400
TZNAME:EDT
DTSTART:20220313T070000
END:DAYLIGHT
BEGIN:STANDARD
TZOFFSETFROM:-0400
TZOFFSETTO:-0500
TZNAME:EST
DTSTART:20221106T060000
END:STANDARD
BEGIN:DAYLIGHT
TZOFFSETFROM:-0500
TZOFFSETTO:-0400
TZNAME:EDT
DTSTART:20230312T070000
END:DAYLIGHT
BEGIN:STANDARD
TZOFFSETFROM:-0400
TZOFFSETTO:-0500
TZNAME:EST
DTSTART:20231105T060000
END:STANDARD
BEGIN:DAYLIGHT
TZOFFSETFROM:-0500
TZOFFSETTO:-0400
TZNAME:EDT
DTSTART:20240310T070000
END:DAYLIGHT
BEGIN:STANDARD
TZOFFSETFROM:-0400
TZOFFSETTO:-0500
TZNAME:EST
DTSTART:20241103T060000
END:STANDARD
END:VTIMEZONE
BEGIN:VEVENT
DTSTART;VALUE=DATE:20231025
DTEND;VALUE=DATE:20231028
DTSTAMP:20260424T165102
CREATED:20230711T094409Z
LAST-MODIFIED:20230720T152917Z
UID:12719-1698192000-1698451199@staging.poegroupadvisors.com
SUMMARY:Speaker - Deeper Weekend 2023
DESCRIPTION:Located in the beautiful city of Greenville\, SC\, Deeper Weekend is a conference created for all accounting firm entrepreneurs\, providing guidance for a stronger firm future and insight on acquiring\, selling\, merging and scaling firms. Poe Group Advisors is proud to serve as a speaker at this event as well as sponsor for this impactful conference for entrepreneurial owners. \nScaling New Heights 2026 by Woodward was last modified:  April 2nd\, 2026 by
URL:https://staging.poegroupadvisors.com/event/deeper-weekend-2023/
ATTACH;FMTTYPE=image/png:https://staging.poegroupadvisors.com/wp-content/uploads/2023/07/PGA-Thriveal-Logo.png
END:VEVENT
END:VCALENDAR