BEGIN:VCALENDAR
VERSION:2.0
PRODID:-//Poe Group Advisors - ECPv6.15.20//NONSGML v1.0//EN
CALSCALE:GREGORIAN
METHOD:PUBLISH
X-WR-CALNAME:Poe Group Advisors
X-ORIGINAL-URL:https://staging.poegroupadvisors.com
X-WR-CALDESC:Events for Poe Group Advisors
REFRESH-INTERVAL;VALUE=DURATION:PT1H
X-Robots-Tag:noindex
X-PUBLISHED-TTL:PT1H
BEGIN:VTIMEZONE
TZID:America/New_York
BEGIN:DAYLIGHT
TZOFFSETFROM:-0500
TZOFFSETTO:-0400
TZNAME:EDT
DTSTART:20230312T070000
END:DAYLIGHT
BEGIN:STANDARD
TZOFFSETFROM:-0400
TZOFFSETTO:-0500
TZNAME:EST
DTSTART:20231105T060000
END:STANDARD
BEGIN:DAYLIGHT
TZOFFSETFROM:-0500
TZOFFSETTO:-0400
TZNAME:EDT
DTSTART:20240310T070000
END:DAYLIGHT
BEGIN:STANDARD
TZOFFSETFROM:-0400
TZOFFSETTO:-0500
TZNAME:EST
DTSTART:20241103T060000
END:STANDARD
BEGIN:DAYLIGHT
TZOFFSETFROM:-0500
TZOFFSETTO:-0400
TZNAME:EDT
DTSTART:20250309T070000
END:DAYLIGHT
BEGIN:STANDARD
TZOFFSETFROM:-0400
TZOFFSETTO:-0500
TZNAME:EST
DTSTART:20251102T060000
END:STANDARD
END:VTIMEZONE
BEGIN:VEVENT
DTSTART;VALUE=DATE:20240910
DTEND;VALUE=DATE:20240914
DTSTAMP:20260424T035527
CREATED:20240807T155452Z
LAST-MODIFIED:20240815T152640Z
UID:14450-1725926400-1726271999@staging.poegroupadvisors.com
SUMMARY:CPB Canada IGNITE 2024
DESCRIPTION:Join our team at CPA Canada’s IGNITE 2024 conference this September 10 – 13. Bookkeeping\, accounting and finance professionals\, along with industry partners\, will gather to foster valuable connections and hear from the industry’s top leaders. Darryl Boyd of Poe Group Advisors will also be speaking on Sept. 12 at 3:45 p.m. Be sure to join us for his session: ‘From Operations to Exit: Building a Valuable Accounting Firm’ \nLearn more and register today at https://ignite.cpbcan.ca/ \nScaling New Heights 2026 by Woodward was last modified:  April 2nd\, 2026 by
URL:https://staging.poegroupadvisors.com/event/cpb-canada-ignite-2024/
LOCATION:RBC Convention Centre\, 375 York St\, Winnipeg\, MB\, R3C 3J3\, Canada
ATTACH;FMTTYPE=image/png:https://staging.poegroupadvisors.com/wp-content/uploads/2024/08/PGA-Ignite-2024-logo.png
END:VEVENT
END:VCALENDAR