BEGIN:VCALENDAR
VERSION:2.0
PRODID:-//Poe Group Advisors - ECPv6.15.20//NONSGML v1.0//EN
CALSCALE:GREGORIAN
METHOD:PUBLISH
X-WR-CALNAME:Poe Group Advisors
X-ORIGINAL-URL:https://staging.poegroupadvisors.com
X-WR-CALDESC:Events for Poe Group Advisors
REFRESH-INTERVAL;VALUE=DURATION:PT1H
X-Robots-Tag:noindex
X-PUBLISHED-TTL:PT1H
BEGIN:VTIMEZONE
TZID:America/New_York
BEGIN:DAYLIGHT
TZOFFSETFROM:-0500
TZOFFSETTO:-0400
TZNAME:EDT
DTSTART:20230312T070000
END:DAYLIGHT
BEGIN:STANDARD
TZOFFSETFROM:-0400
TZOFFSETTO:-0500
TZNAME:EST
DTSTART:20231105T060000
END:STANDARD
BEGIN:DAYLIGHT
TZOFFSETFROM:-0500
TZOFFSETTO:-0400
TZNAME:EDT
DTSTART:20240310T070000
END:DAYLIGHT
BEGIN:STANDARD
TZOFFSETFROM:-0400
TZOFFSETTO:-0500
TZNAME:EST
DTSTART:20241103T060000
END:STANDARD
BEGIN:DAYLIGHT
TZOFFSETFROM:-0500
TZOFFSETTO:-0400
TZNAME:EDT
DTSTART:20250309T070000
END:DAYLIGHT
BEGIN:STANDARD
TZOFFSETFROM:-0400
TZOFFSETTO:-0500
TZNAME:EST
DTSTART:20251102T060000
END:STANDARD
END:VTIMEZONE
BEGIN:VEVENT
DTSTART;TZID=America/New_York:20240918T153000
DTEND;TZID=America/New_York:20240918T163000
DTSTAMP:20260424T035506
CREATED:20240916T173149Z
LAST-MODIFIED:20240916T173149Z
UID:14524-1726673400-1726677000@staging.poegroupadvisors.com
SUMMARY:Market Update Webinar (Sept. 18)
DESCRIPTION:Join Poe Group Advisors president\, CPA and M&A specialist Brannon Poe for a live webinar. We’ll delve into the latest trends impacting CPA firm valuations and analyze how private equity is shaping the future. We’ll also explore what these changes mean for your practice. \nWe’ll host two separate sessions on Sept. 18 and Sept. 24\, both beginning at 3:30 p.m. ET. \nLearn more and register for the webinar at poegroupadvisors.com/market-update \nScaling New Heights 2026 by Woodward was last modified:  April 2nd\, 2026 by
URL:https://staging.poegroupadvisors.com/event/market-update-webinar-sept-18/
ATTACH;FMTTYPE=image/jpeg:https://staging.poegroupadvisors.com/wp-content/uploads/2024/09/Webinar-CTA.jpg
END:VEVENT
END:VCALENDAR