BEGIN:VCALENDAR
VERSION:2.0
PRODID:-//Poe Group Advisors - ECPv6.15.20//NONSGML v1.0//EN
CALSCALE:GREGORIAN
METHOD:PUBLISH
X-WR-CALNAME:Poe Group Advisors
X-ORIGINAL-URL:https://staging.poegroupadvisors.com
X-WR-CALDESC:Events for Poe Group Advisors
REFRESH-INTERVAL;VALUE=DURATION:PT1H
X-Robots-Tag:noindex
X-PUBLISHED-TTL:PT1H
BEGIN:VTIMEZONE
TZID:America/New_York
BEGIN:DAYLIGHT
TZOFFSETFROM:-0500
TZOFFSETTO:-0400
TZNAME:EDT
DTSTART:20230312T070000
END:DAYLIGHT
BEGIN:STANDARD
TZOFFSETFROM:-0400
TZOFFSETTO:-0500
TZNAME:EST
DTSTART:20231105T060000
END:STANDARD
BEGIN:DAYLIGHT
TZOFFSETFROM:-0500
TZOFFSETTO:-0400
TZNAME:EDT
DTSTART:20240310T070000
END:DAYLIGHT
BEGIN:STANDARD
TZOFFSETFROM:-0400
TZOFFSETTO:-0500
TZNAME:EST
DTSTART:20241103T060000
END:STANDARD
BEGIN:DAYLIGHT
TZOFFSETFROM:-0500
TZOFFSETTO:-0400
TZNAME:EDT
DTSTART:20250309T070000
END:DAYLIGHT
BEGIN:STANDARD
TZOFFSETFROM:-0400
TZOFFSETTO:-0500
TZNAME:EST
DTSTART:20251102T060000
END:STANDARD
END:VTIMEZONE
BEGIN:VEVENT
DTSTART;VALUE=DATE:20241105
DTEND;VALUE=DATE:20241107
DTSTAMP:20260424T012710
CREATED:20241015T101757Z
LAST-MODIFIED:20241015T102224Z
UID:14587-1730764800-1730937599@staging.poegroupadvisors.com
SUMMARY:Accountex Canada 2024
DESCRIPTION:Join our team at Accountex Canada 2024 this November 5 and 6! We’ll be hosting a booth during the event at the Metro Toronto Convention Centre. We look forward to making new connections\, learning from industry experts and sharing more about how Poe Group Advisors can help you! \nScaling New Heights 2026 by Woodward was last modified:  April 2nd\, 2026 by
URL:https://staging.poegroupadvisors.com/event/accountex-canada-2024/
ATTACH;FMTTYPE=image/webp:https://staging.poegroupadvisors.com/wp-content/uploads/2024/10/accountex-2024-logo-wbackground.webp
END:VEVENT
END:VCALENDAR