BEGIN:VCALENDAR
VERSION:2.0
PRODID:-//Poe Group Advisors - ECPv6.15.20//NONSGML v1.0//EN
CALSCALE:GREGORIAN
METHOD:PUBLISH
X-WR-CALNAME:Poe Group Advisors
X-ORIGINAL-URL:https://staging.poegroupadvisors.com
X-WR-CALDESC:Events for Poe Group Advisors
REFRESH-INTERVAL;VALUE=DURATION:PT1H
X-Robots-Tag:noindex
X-PUBLISHED-TTL:PT1H
BEGIN:VTIMEZONE
TZID:America/New_York
BEGIN:DAYLIGHT
TZOFFSETFROM:-0500
TZOFFSETTO:-0400
TZNAME:EDT
DTSTART:20220313T070000
END:DAYLIGHT
BEGIN:STANDARD
TZOFFSETFROM:-0400
TZOFFSETTO:-0500
TZNAME:EST
DTSTART:20221106T060000
END:STANDARD
BEGIN:DAYLIGHT
TZOFFSETFROM:-0500
TZOFFSETTO:-0400
TZNAME:EDT
DTSTART:20230312T070000
END:DAYLIGHT
BEGIN:STANDARD
TZOFFSETFROM:-0400
TZOFFSETTO:-0500
TZNAME:EST
DTSTART:20231105T060000
END:STANDARD
BEGIN:DAYLIGHT
TZOFFSETFROM:-0500
TZOFFSETTO:-0400
TZNAME:EDT
DTSTART:20240310T070000
END:DAYLIGHT
BEGIN:STANDARD
TZOFFSETFROM:-0400
TZOFFSETTO:-0500
TZNAME:EST
DTSTART:20241103T060000
END:STANDARD
END:VTIMEZONE
BEGIN:VEVENT
DTSTART;VALUE=DATE:20230601
DTEND;VALUE=DATE:20230602
DTSTAMP:20260424T204117
CREATED:20230703T095635Z
LAST-MODIFIED:20230720T153006Z
UID:12559-1685577600-1685663999@staging.poegroupadvisors.com
SUMMARY:Speaker - How To Prepare Your Accounting Firm For a Sale
DESCRIPTION:It’s never too soon to plan your exit strategy! In this free LIVE discussion\, Poe Group’s Brannon Poe\, Darryl Boyd and Lisa Handziak shared key insights from their years of experience navigating CPA firm transitions to help practice owners prepare for a successful sale of their firm.  \nScaling New Heights 2026 by Woodward was last modified:  April 2nd\, 2026 by
URL:https://staging.poegroupadvisors.com/event/how-to-prepare-your-accounting-firm-for-a-sale/
ATTACH;FMTTYPE=image/svg+xml:https://staging.poegroupadvisors.com/wp-content/uploads/2022/08/poe-logo.svg
END:VEVENT
BEGIN:VEVENT
DTSTART;VALUE=DATE:20230613
DTEND;VALUE=DATE:20230614
DTSTAMP:20260424T204117
CREATED:20230703T100729Z
LAST-MODIFIED:20230720T153016Z
UID:12561-1686614400-1686700799@staging.poegroupadvisors.com
SUMMARY:Speaker - Get Connected (Toronto) by QuickBooks
DESCRIPTION:QuickBooks’ annual Get Connected event is a must for accountants and bookkeepers serious about success. This year\, Poe Group’s own Daryl Boyd joined the Toronto event as a featured speaker to discuss the challenges and opportunities associated with acquiring and selling accounting firms.  \nScaling New Heights 2026 by Woodward was last modified:  April 2nd\, 2026 by
URL:https://staging.poegroupadvisors.com/event/get-connected-toronto-by-quickbooks/
ATTACH;FMTTYPE=image/png:https://staging.poegroupadvisors.com/wp-content/uploads/2023/07/2330174-63d7ecff35021.png
END:VEVENT
END:VCALENDAR