BEGIN:VCALENDAR
VERSION:2.0
PRODID:-//Poe Group Advisors - ECPv6.15.20//NONSGML v1.0//EN
CALSCALE:GREGORIAN
METHOD:PUBLISH
X-WR-CALNAME:Poe Group Advisors
X-ORIGINAL-URL:https://staging.poegroupadvisors.com
X-WR-CALDESC:Events for Poe Group Advisors
REFRESH-INTERVAL;VALUE=DURATION:PT1H
X-Robots-Tag:noindex
X-PUBLISHED-TTL:PT1H
BEGIN:VTIMEZONE
TZID:America/New_York
BEGIN:DAYLIGHT
TZOFFSETFROM:-0500
TZOFFSETTO:-0400
TZNAME:EDT
DTSTART:20230312T070000
END:DAYLIGHT
BEGIN:STANDARD
TZOFFSETFROM:-0400
TZOFFSETTO:-0500
TZNAME:EST
DTSTART:20231105T060000
END:STANDARD
BEGIN:DAYLIGHT
TZOFFSETFROM:-0500
TZOFFSETTO:-0400
TZNAME:EDT
DTSTART:20240310T070000
END:DAYLIGHT
BEGIN:STANDARD
TZOFFSETFROM:-0400
TZOFFSETTO:-0500
TZNAME:EST
DTSTART:20241103T060000
END:STANDARD
BEGIN:DAYLIGHT
TZOFFSETFROM:-0500
TZOFFSETTO:-0400
TZNAME:EDT
DTSTART:20250309T070000
END:DAYLIGHT
BEGIN:STANDARD
TZOFFSETFROM:-0400
TZOFFSETTO:-0500
TZNAME:EST
DTSTART:20251102T060000
END:STANDARD
END:VTIMEZONE
BEGIN:VEVENT
DTSTART;VALUE=DATE:20240429
DTEND;VALUE=DATE:20240503
DTSTAMP:20260424T075302
CREATED:20240328T113117Z
LAST-MODIFIED:20240328T113117Z
UID:14245-1714348800-1714694399@staging.poegroupadvisors.com
SUMMARY:PASBA 2024 Spring Marketing & Technology Conference
DESCRIPTION:Join our team in St. Pete Beach\, Fla. for the 2024 PASBA Spring Marketing & Technology Conference. This annual event promises to provide essential tools\, workshops and networking opportunities to prospective\, new and long-time PASBA members. We look forward to connecting with and supporting small business owners as an exhibitor at this year’s event. \nScaling New Heights 2026 by Woodward was last modified:  April 2nd\, 2026 by
URL:https://staging.poegroupadvisors.com/event/pasba-2024-spring-marketing-technology-conference/
ATTACH;FMTTYPE=image/png:https://staging.poegroupadvisors.com/wp-content/uploads/2024/03/POE-PASBA-2024.png
END:VEVENT
BEGIN:VEVENT
DTSTART;TZID=America/New_York:20240515T160000
DTEND;TZID=America/New_York:20240515T170000
DTSTAMP:20260424T075302
CREATED:20240509T174315Z
LAST-MODIFIED:20240509T182415Z
UID:14312-1715788800-1715792400@staging.poegroupadvisors.com
SUMMARY:Live APA Webinar
DESCRIPTION:This live webinar will give you a glimpse into our Accounting Practice Academy workshop. Learn about the factors that drive practice value\, firm benchmarks to target and how to implement change that improves your practice. Sign up now for May 15 at 4 p.m. ET or May 21 at 4 p.m. ET. \nScaling New Heights 2026 by Woodward was last modified:  April 2nd\, 2026 by
URL:https://staging.poegroupadvisors.com/event/live-apa-webinar/
ATTACH;FMTTYPE=image/jpeg:https://staging.poegroupadvisors.com/wp-content/uploads/2024/05/APA-Webinar-May-2024_1-hour-1024x576-1.jpg
END:VEVENT
BEGIN:VEVENT
DTSTART;TZID=America/New_York:20240521T160000
DTEND;TZID=America/New_York:20240521T170000
DTSTAMP:20260424T075302
CREATED:20240509T174446Z
LAST-MODIFIED:20240509T182358Z
UID:14314-1716307200-1716310800@staging.poegroupadvisors.com
SUMMARY:Live APA Webinar
DESCRIPTION:This live webinar will give you a glimpse into our Accounting Practice Academy workshop. Learn about the factors that drive practice value\, firm benchmarks to target and how to implement change that improves your practice. Sign up now for May 15 at 4 p.m. ET or May 21 at 4 p.m. ET. \nScaling New Heights 2026 by Woodward was last modified:  April 2nd\, 2026 by
URL:https://staging.poegroupadvisors.com/event/live-apa-webinar-2/
ATTACH;FMTTYPE=image/jpeg:https://staging.poegroupadvisors.com/wp-content/uploads/2024/05/APA-Webinar-May-2024_1-hour-1024x576-2.jpg
END:VEVENT
END:VCALENDAR