BEGIN:VCALENDAR
VERSION:2.0
PRODID:-//Poe Group Advisors - ECPv6.15.20//NONSGML v1.0//EN
CALSCALE:GREGORIAN
METHOD:PUBLISH
X-WR-CALNAME:Poe Group Advisors
X-ORIGINAL-URL:https://staging.poegroupadvisors.com
X-WR-CALDESC:Events for Poe Group Advisors
REFRESH-INTERVAL;VALUE=DURATION:PT1H
X-Robots-Tag:noindex
X-PUBLISHED-TTL:PT1H
BEGIN:VTIMEZONE
TZID:America/New_York
BEGIN:DAYLIGHT
TZOFFSETFROM:-0500
TZOFFSETTO:-0400
TZNAME:EDT
DTSTART:20230312T070000
END:DAYLIGHT
BEGIN:STANDARD
TZOFFSETFROM:-0400
TZOFFSETTO:-0500
TZNAME:EST
DTSTART:20231105T060000
END:STANDARD
BEGIN:DAYLIGHT
TZOFFSETFROM:-0500
TZOFFSETTO:-0400
TZNAME:EDT
DTSTART:20240310T070000
END:DAYLIGHT
BEGIN:STANDARD
TZOFFSETFROM:-0400
TZOFFSETTO:-0500
TZNAME:EST
DTSTART:20241103T060000
END:STANDARD
BEGIN:DAYLIGHT
TZOFFSETFROM:-0500
TZOFFSETTO:-0400
TZNAME:EDT
DTSTART:20250309T070000
END:DAYLIGHT
BEGIN:STANDARD
TZOFFSETFROM:-0400
TZOFFSETTO:-0500
TZNAME:EST
DTSTART:20251102T060000
END:STANDARD
END:VTIMEZONE
BEGIN:VEVENT
DTSTART;TZID=America/New_York:20240717T160000
DTEND;TZID=America/New_York:20240717T170000
DTSTAMP:20260424T052057
CREATED:20240627T180742Z
LAST-MODIFIED:20240627T180802Z
UID:14407-1721232000-1721235600@staging.poegroupadvisors.com
SUMMARY:July 17 - Live APA Webinar
DESCRIPTION:This live webinar will give you a glimpse into our Accounting Practice Academy workshop. Learn about the factors that drive practice value\, firm benchmarks to target and how to implement change that improves your practice. Sign up now for July 17 at 4 p.m. ET or July 23 at 4 p.m. ET. \nScaling New Heights 2026 by Woodward was last modified:  April 2nd\, 2026 by
URL:https://staging.poegroupadvisors.com/event/july-17-live-apa-webinar/
ATTACH;FMTTYPE=image/jpeg:https://staging.poegroupadvisors.com/wp-content/uploads/2024/05/APA-Webinar-May-2024_1-hour-1024x576-2.jpg
END:VEVENT
BEGIN:VEVENT
DTSTART;TZID=America/New_York:20240723T160000
DTEND;TZID=America/New_York:20240723T170000
DTSTAMP:20260424T052057
CREATED:20240627T180846Z
LAST-MODIFIED:20240627T180846Z
UID:14408-1721750400-1721754000@staging.poegroupadvisors.com
SUMMARY:July 23 - Live APA Webinar
DESCRIPTION:This live webinar will give you a glimpse into our Accounting Practice Academy workshop. Learn about the factors that drive practice value\, firm benchmarks to target and how to implement change that improves your practice. Sign up now for July 17 at 4 p.m. ET or July 23 at 4 p.m. ET. \nScaling New Heights 2026 by Woodward was last modified:  April 2nd\, 2026 by
URL:https://staging.poegroupadvisors.com/event/july-23-live-apa-webinar/
ATTACH;FMTTYPE=image/jpeg:https://staging.poegroupadvisors.com/wp-content/uploads/2024/05/APA-Webinar-May-2024_1-hour-1024x576-2.jpg
END:VEVENT
END:VCALENDAR